BEGIN:VCALENDAR
VERSION:2.0
PRODID:-//Extinction Rebellion Bath - ECPv5.6.0//NONSGML v1.0//EN
CALSCALE:GREGORIAN
METHOD:PUBLISH
X-WR-CALNAME:Extinction Rebellion Bath
X-ORIGINAL-URL:https://xrbath.org.uk
X-WR-CALDESC:Events for Extinction Rebellion Bath
BEGIN:VTIMEZONE
TZID:Europe/London
BEGIN:DAYLIGHT
TZOFFSETFROM:+0000
TZOFFSETTO:+0100
TZNAME:BST
DTSTART:20250330T010000
END:DAYLIGHT
BEGIN:STANDARD
TZOFFSETFROM:+0100
TZOFFSETTO:+0000
TZNAME:GMT
DTSTART:20251026T010000
END:STANDARD
END:VTIMEZONE
BEGIN:VEVENT
DTSTART;TZID=Europe/London:20251118T060000
DTEND;TZID=Europe/London:20251118T203000
DTSTAMP:20260420T145333
CREATED:20251110T105732Z
LAST-MODIFIED:20251110T110117Z
UID:5772-1763445600-1763497800@xrbath.org.uk
SUMMARY:XR Bath rebel meeting
DESCRIPTION:Bath Rebel Meeting\nCome along and get involved in future campaigning on the climate and ecological emergency –\nVegan food at 18:00\, meeting starts at 19:00 – St Johns Church Hall\, Bathwick BA2 6PT
URL:https://xrbath.org.uk/event/rebel-meeting/2025-11-18/
LOCATION:St Johns Church Hall BA2 6PT\, BA2 6PT
END:VEVENT
END:VCALENDAR