BEGIN:VCALENDAR
VERSION:2.0
PRODID:-//Extinction Rebellion Bath - ECPv5.6.0//NONSGML v1.0//EN
CALSCALE:GREGORIAN
METHOD:PUBLISH
X-WR-CALNAME:Extinction Rebellion Bath
X-ORIGINAL-URL:https://xrbath.org.uk
X-WR-CALDESC:Events for Extinction Rebellion Bath
BEGIN:VTIMEZONE
TZID:Europe/London
BEGIN:DAYLIGHT
TZOFFSETFROM:+0000
TZOFFSETTO:+0100
TZNAME:BST
DTSTART:20240331T010000
END:DAYLIGHT
BEGIN:STANDARD
TZOFFSETFROM:+0100
TZOFFSETTO:+0000
TZNAME:GMT
DTSTART:20241027T010000
END:STANDARD
END:VTIMEZONE
BEGIN:VEVENT
DTSTART;TZID=Europe/London:20241102T170000
DTEND;TZID=Europe/London:20241102T180000
DTSTAMP:20260421T011226
CREATED:20241030T092335Z
LAST-MODIFIED:20241030T092335Z
UID:5762-1730566800-1730570400@xrbath.org.uk
SUMMARY:Kidical Mass Bath - Halloween
DESCRIPTION:Kidical Mass is a family-friendly cycle ride to celebrate cycling and show that we want to cycle and we need safe spaces to do so.\n\nThis is a gentle cycle\, for EVERYONE (all ages and abilities) with the aim to enjoy cycling as a group.\nDress up for Halloween – and don’t forget your bike lights (white front light\, red rear light).\nGet a sticker booklet at the end of the ride and collect a sticker at every Kidical Mass ride. When your card is full you’ll get a prize.\n\nMake space! Don’t limit children – limit traffic. \n\nEveryone welcome: children on their own cycles\, balance bikes\, cargo bikes\, trailers\, trikes. Invite your friends and family\, young and old!\n\n(We ask that children are accompanied and that you’re self-sufficient and responsible for any children you bring along. However\, we’ll ride as a group and there will be adults to lead the ride and help navigate any traffic.)
URL:https://xrbath.org.uk/event/kidical-mass-bath-halloween/
LOCATION:Orange Grove\, Bath\, BA1 1\, United Kingdom
CATEGORIES:Action
ATTACH;FMTTYPE=image/jpeg:https://xrbath.org.uk/wp-content/uploads/2024/10/kidical-bath.jpg
END:VEVENT
END:VCALENDAR