BEGIN:VCALENDAR
VERSION:2.0
PRODID:-//Extinction Rebellion Bath - ECPv5.6.0//NONSGML v1.0//EN
CALSCALE:GREGORIAN
METHOD:PUBLISH
X-WR-CALNAME:Extinction Rebellion Bath
X-ORIGINAL-URL:https://xrbath.org.uk
X-WR-CALDESC:Events for Extinction Rebellion Bath
BEGIN:VTIMEZONE
TZID:Europe/London
BEGIN:DAYLIGHT
TZOFFSETFROM:+0000
TZOFFSETTO:+0100
TZNAME:BST
DTSTART:20250330T010000
END:DAYLIGHT
BEGIN:STANDARD
TZOFFSETFROM:+0100
TZOFFSETTO:+0000
TZNAME:GMT
DTSTART:20251026T010000
END:STANDARD
END:VTIMEZONE
BEGIN:VEVENT
DTSTART;TZID=Europe/London:20251128T073000
DTEND;TZID=Europe/London:20251128T213000
DTSTAMP:20260420T132534
CREATED:20251110T111916Z
LAST-MODIFIED:20251110T112353Z
UID:5816-1764315000-1764365400@xrbath.org.uk
SUMMARY:Film - The Line We Crossed
DESCRIPTION:Hosted by: The New Oriel Hall Social Affairs Discussion Group\nActivists face arrests and harsh sentences for protesting new fossil fuel projects. As resistance grows\, new laws restrict protest rights. \nTicket link:\nThe Line We Crossed with speaker Tickets\, Fri\, Nov 28\, 2025 at 7:30 PM | Eventbrite
URL:https://xrbath.org.uk/event/film-the-line-we-crossed/
LOCATION:New Oriel Hall\, BA1 6RA\, Brookleaze Buildings\, Larkhall\, Bath\, BA1 6RA\, United Kingdom
END:VEVENT
END:VCALENDAR